BEGIN:VCALENDAR
VERSION:2.0
PRODID:-//SportPlan//Event Calendar//EN
CALSCALE:GREGORIAN
BEGIN:VEVENT
UID:54cde61b-0f36-4415-ad2d-b4de72264ba7@sportplan.local
DTSTAMP:20260420T195341Z
DTSTART;VALUE=DATE:20260926
DTEND;VALUE=DATE:20260927
SUMMARY:BERLIN-MARATHON GENERALI 5K
DESCRIPTION:verified official 5K event page via web_fetch
LOCATION:Berlin\, Germany
URL:https://sportplan.vercel.app/it/events/berlin-marathon-generali-5k-2026-09-26
END:VEVENT
END:VCALENDAR
