BEGIN:VCALENDAR
VERSION:2.0
PRODID:-//SportPlan//Event Calendar//EN
CALSCALE:GREGORIAN
BEGIN:VEVENT
UID:7da0296d-3067-408b-b2b6-4073c38fec1b@sportplan.local
DTSTAMP:20260420T194737Z
DTSTART;VALUE=DATE:20260517
DTEND;VALUE=DATE:20260518
SUMMARY:Beer Lovers' Marathon
DESCRIPTION:Beer Lovers' Marathon aura lieu le 17 mai 2026 à Liège\, dans un cadre parfait pour profiter de l'événement et de l'ambiance de course. Le tracé et l'atmosphère en font un rendez-vous séduisant pour les coureurs en quête d'un nouveau défi.
LOCATION:Liège
URL:https://sportplan.vercel.app/it/events/beer-lovers-marathon-liege-2026-05-17
END:VEVENT
END:VCALENDAR
