BEGIN:VCALENDAR
VERSION:2.0
PRODID:-//SportPlan//Event Calendar//EN
CALSCALE:GREGORIAN
BEGIN:VEVENT
UID:6ee5cf25-625a-4337-a9b7-6f23fd04b490@sportplan.local
DTSTAMP:20260420T194802Z
DTSTART;VALUE=DATE:20260823
DTEND;VALUE=DATE:20260824
SUMMARY:Barossa Marathon Festival
DESCRIPTION:Official event site validated via web_fetch.
LOCATION:Barossa Valley\, SA\, Australia
URL:https://sportplan.vercel.app/it/events/barossa-marathon-festival-2026-08-23
END:VEVENT
END:VCALENDAR
