BEGIN:VCALENDAR
VERSION:2.0
PRODID:-//SportPlan//Event Calendar//EN
CALSCALE:GREGORIAN
BEGIN:VEVENT
UID:0e04eb67-1b74-4430-b4c4-e475a5ec6421@sportplan.local
DTSTAMP:20260420T194413Z
DTSTART;VALUE=DATE:20260913
DTEND;VALUE=DATE:20260914
SUMMARY:Ayvalik Half Marathon
DESCRIPTION:World's Marathons event page\; scenic Aegean coastal road race.
LOCATION:Ayvalık\, Balıkesir\, Turkey
URL:https://sportplan.vercel.app/it/events/ayvalik-half-marathon-2026-09-13
END:VEVENT
END:VCALENDAR
