BEGIN:VCALENDAR
VERSION:2.0
PRODID:-//SportPlan//Event Calendar//EN
CALSCALE:GREGORIAN
BEGIN:VEVENT
UID:5b86e0fd-3974-46eb-822d-800f2e50fade@sportplan.local
DTSTAMP:20260420T181756Z
DTSTART;VALUE=DATE:20260503
DTEND;VALUE=DATE:20260504
SUMMARY:Atw St Neots Triathlon - Race 1
DESCRIPTION:
LOCATION:Riverside Park
URL:https://sportplan.vercel.app/it/events/atw-st-neots-triathlon-race-1-riverside-park-2026-05-03
END:VEVENT
END:VCALENDAR
