BEGIN:VCALENDAR
VERSION:2.0
PRODID:-//SportPlan//Event Calendar//EN
CALSCALE:GREGORIAN
BEGIN:VEVENT
UID:c4a280a0-c384-4663-9dc0-4a4b0e1f25ae@sportplan.local
DTSTAMP:20260420T224732Z
DTSTART;VALUE=DATE:20260919
DTEND;VALUE=DATE:20260920
SUMMARY:ASTRI KESKUS Narva Autumn Run 2026
DESCRIPTION:ASTRI KESKUS Narva Autumn Run 2026 is an official amateur road running event in Narva\, Estonia on 19 September 2026. The official organizer page lists a children's run\, a youth run\, and open 5 km and 10 km distances at Astri Keskus.
LOCATION:Astri Keskus\, Narva\, Estonia
URL:https://sportplan.vercel.app/it/events/astri-keskus-narva-autumn-run-2026-narva-2026-09-19
END:VEVENT
END:VCALENDAR
