BEGIN:VCALENDAR
VERSION:2.0
PRODID:-//SportPlan//Event Calendar//EN
CALSCALE:GREGORIAN
BEGIN:VEVENT
UID:ba23b0e3-7710-4571-9dda-c53874dcb90e@sportplan.local
DTSTAMP:20260421T013033Z
DTSTART;VALUE=DATE:20260516
DTEND;VALUE=DATE:20260517
SUMMARY:ASICS Runaway Hawke's Bay Marathon 2026
DESCRIPTION:Official event site confirmed 200 OK\; 16 May 2026\; flat scenic route through vineyards\, orchards\, quiet country roads\; finish at Elephant Hill Estate & Winery\; distances 42K\, 21K\, 10K\; entries open\; NZ first running discovery run
LOCATION:Hawke's Bay (Elephant Hill Estate)\, New Zealand
URL:https://sportplan.vercel.app/it/events/asics-runaway-hawke-s-bay-marathon-2026-2026-05-16
END:VEVENT
END:VCALENDAR
