BEGIN:VCALENDAR
VERSION:2.0
PRODID:-//SportPlan//Event Calendar//EN
CALSCALE:GREGORIAN
BEGIN:VEVENT
UID:c51e9536-c099-49c5-9225-ced83e92dedb@sportplan.local
DTSTAMP:20260421T000159Z
DTSTART;VALUE=DATE:20260703
DTEND;VALUE=DATE:20260704
SUMMARY:Asics Pierra Menta Été U20 & U23
DESCRIPTION:Asics Pierra Menta Été U20 & U23 aura lieu le 3 juillet 2026 à Arêches-Beaufort\, Savoie\, Auvergne-Rhône-Alpes. C'est un rendez-vous intéressant pour les participants à la recherche d'une expérience sportive bien organisée et d'une ambiance motivante. Le parcours couvre environ 26 km. Consultez les informations officielles de l'événement pour connaître les horaires\, le parcours et les détails logistiques.
LOCATION:Arêches-Beaufort\, Savoie\, Auvergne-Rhône-Alpes
URL:https://sportplan.vercel.app/it/events/asics-pierra-menta-ete-u20-u23-areches-beaufort-2026-07-03-26k
END:VEVENT
END:VCALENDAR
