BEGIN:VCALENDAR
VERSION:2.0
PRODID:-//SportPlan//Event Calendar//EN
CALSCALE:GREGORIAN
BEGIN:VEVENT
UID:2efb166e-75f5-4fa4-a4e4-2ad9c983dd93@sportplan.local
DTSTAMP:20260420T211621Z
DTSTART;VALUE=DATE:20260531
DTEND;VALUE=DATE:20260601
SUMMARY:ASICS Österreichischer Frauenlauf
DESCRIPTION:ASICS Österreichischer Frauenlauf ist eine Veranstaltung am 2026-05-31 in Viena. Sie ist eine gute Wahl für alle\, die ein gut organisiertes Sportevent suchen. Die Veranstaltung passt sowohl zu erfahrenen Teilnehmenden als auch zu Menschen\, die etwas Neues ausprobieren möchten.
LOCATION:Viena
URL:https://sportplan.vercel.app/it/events/asics-osterreichischer-frauenlauf-viena-2026-05-31
END:VEVENT
END:VCALENDAR
