BEGIN:VCALENDAR
VERSION:2.0
PRODID:-//SportPlan//Event Calendar//EN
CALSCALE:GREGORIAN
BEGIN:VEVENT
UID:b87f76a9-6586-4890-b6b5-83745c8381d1@sportplan.local
DTSTAMP:20260420T211549Z
DTSTART;VALUE=DATE:20261031
DTEND;VALUE=DATE:20261101
SUMMARY:ASICS Noosa Bolt / GWM Australian Open Criterium
DESCRIPTION:official Noosa Tri festival page from fetched festival-events page\; Australia priority country
LOCATION:Noosa Heads\, Queensland\, Australia
URL:https://sportplan.vercel.app/it/events/asics-noosa-bolt-gwm-australian-open-criterium-2026-10-31
END:VEVENT
END:VCALENDAR
