BEGIN:VCALENDAR
VERSION:2.0
PRODID:-//SportPlan//Event Calendar//EN
CALSCALE:GREGORIAN
BEGIN:VEVENT
UID:91a43113-079f-46da-aee9-02eb824dfb35@sportplan.local
DTSTAMP:20260420T201156Z
DTSTART;VALUE=DATE:20261026
DTEND;VALUE=DATE:20261027
SUMMARY:Arrankudiaga-Zolloko Mendi Maratoi Erdia
DESCRIPTION:Arrankudiaga-Zolloko Mendi Maratoi Erdia se celebrará el 26 de octubre de 2026 en Arrankudiaga-Zollo\, Vizcaya\, País Vasco. Es una buena cita para quienes quieren vivir el ambiente del evento en directo y planificar la jornada con antelación. La sede prevista está a unos 21.1 km\, así que conviene revisar accesos\, horarios y servicios antes de salir.
LOCATION:Arrankudiaga-Zollo\, Vizcaya\, País Vasco
URL:https://sportplan.vercel.app/it/events/arrankudiaga-zolloko-mendi-maratoi-erdia-arrankudiaga-zollo-2026-10-26-21-095k
END:VEVENT
END:VCALENDAR
