BEGIN:VCALENDAR
VERSION:2.0
PRODID:-//SportPlan//Event Calendar//EN
CALSCALE:GREGORIAN
BEGIN:VEVENT
UID:5b35a75e-3eb0-46c1-8018-16fa61b070ef@sportplan.local
DTSTAMP:20260420T194541Z
DTSTART;VALUE=DATE:20260612
DTEND;VALUE=DATE:20260613
SUMMARY:Ardibidepikua Bertikala
DESCRIPTION:Ardibidepikua Bertikala se celebrará en Isaba\, Navarra el 12 de junio de 2026. Una cita ideal para disfrutar del ambiente del evento con un recorrido de 3.9 km y compartir una experiencia deportiva bien organizada. Perfecto tanto para participantes que buscan superarse como para quienes quieren vivir una jornada activa en un entorno especial.
LOCATION:Isaba\, Navarra
URL:https://sportplan.vercel.app/it/events/ardibidepikua-bertikala-isaba-2026-06-12
END:VEVENT
END:VCALENDAR
