BEGIN:VCALENDAR
VERSION:2.0
PRODID:-//SportPlan//Event Calendar//EN
CALSCALE:GREGORIAN
BEGIN:VEVENT
UID:0842205b-33a5-433e-8c30-5dbdb71bf757@sportplan.local
DTSTAMP:20260421T013003Z
DTSTART;VALUE=DATE:20260822
DTEND;VALUE=DATE:20260823
SUMMARY:Arctic Triple Tromsø Triathlon 2026
DESCRIPTION:Arctic Triple Tromsø Triathlon 2026 arrangeres 22 august 2026 i Tromsø\, Troms. Dette er et godt valg for deltakere som ønsker en godt organisert utfordring i NO med motiverende stemning gjennom hele dagen. Med en distanse på omtrent 226 km passer arrangementet både for erfarne deltakere og for dem som vil sette seg et nytt mål.
LOCATION:Tromsø\, Troms
URL:https://sportplan.vercel.app/it/events/arctic-triple-troms-triathlon-2026-troms-2026-08-22
END:VEVENT
END:VCALENDAR
