BEGIN:VCALENDAR
VERSION:2.0
PRODID:-//SportPlan//Event Calendar//EN
CALSCALE:GREGORIAN
BEGIN:VEVENT
UID:e7ed4ab3-49a8-4525-838e-36cc543a18bc@sportplan.local
DTSTAMP:20260420T181900Z
DTSTART;VALUE=DATE:20260718
DTEND;VALUE=DATE:20260719
SUMMARY:Aquatlo de Oliveira do Bairro
DESCRIPTION:Official Federação de Triatlo de Portugal event page for the 2026 Aquatlo de Oliveira do Bairro. The page explicitly marks the race as Prova Aberta.
LOCATION:Oliveira do Bairro\, Portugal
URL:https://sportplan.vercel.app/it/events/aquatlo-de-oliveira-do-bairro-oliveira-do-bairro-2026-07-18
END:VEVENT
END:VCALENDAR
