BEGIN:VCALENDAR
VERSION:2.0
PRODID:-//SportPlan//Event Calendar//EN
CALSCALE:GREGORIAN
BEGIN:VEVENT
UID:72eed000-65a7-4374-8ae3-c3aadb1d8dbf@sportplan.local
DTSTAMP:20260420T211250Z
DTSTART;VALUE=DATE:20260906
DTEND;VALUE=DATE:20260907
SUMMARY:Alssundman (1/2)
DESCRIPTION:Alssundman (1/2) is an official amateur half-distance triathlon in the Sønderskoven area of Sønderborg\, Denmark on 6 September 2026. Triatlon Danmark lists it in the official federation calendar\, and the organizer's official Alssundman website says registration for the 2026 tenth-anniversary edition is open in the scenic Sønderskoven setting.
LOCATION:Sønderskoven\, Sønderborg
URL:https://sportplan.vercel.app/it/events/alssundman-1-2-sonderborg-2026-09-06
END:VEVENT
END:VCALENDAR
