BEGIN:VCALENDAR
VERSION:2.0
PRODID:-//SportPlan//Event Calendar//EN
CALSCALE:GREGORIAN
BEGIN:VEVENT
UID:7c94c9aa-0239-4f6c-9c29-4e302b1e0219@sportplan.local
DTSTAMP:20260420T211726Z
DTSTART;VALUE=DATE:20260627
DTEND;VALUE=DATE:20260628
SUMMARY:Alpen Adria Swim Cup - Ossiacher See
DESCRIPTION:Alpen Adria Swim Cup - Ossiacher See findet am 27. Juni 2026 in Lake Ossiach statt und bietet eine gute Gelegenheit\, die besondere Atmosphäre der Veranstaltung vor Ort zu erleben. Dies ist sowohl für regelmäßige Teilnehmende als auch für alle interessant\, die eine neue sportliche oder gemeinschaftliche Erfahrung suchen.
LOCATION:Lake Ossiach
URL:https://sportplan.vercel.app/it/events/alpen-adria-swim-cup-ossiacher-see-lake-ossiach-2026-06-27
END:VEVENT
END:VCALENDAR
