BEGIN:VCALENDAR
VERSION:2.0
PRODID:-//SportPlan//Event Calendar//EN
CALSCALE:GREGORIAN
BEGIN:VEVENT
UID:7a29d093-3b5d-4f4c-8e01-b0a4a9955d4b@sportplan.local
DTSTAMP:20260420T224135Z
DTSTART;VALUE=DATE:20260628
DTEND;VALUE=DATE:20260629
SUMMARY:Aletsch Half-Marathon
DESCRIPTION:Classic run in a UNESCO World Heritage Site! The 21.1 km long challenging run through the UNESCO World Heritage Site. Book the Aletsch Half-Marathon on Sunday 28 June now!
LOCATION:London
URL:https://sportplan.vercel.app/it/events/aletsch-half-marathon-2026-06-28
END:VEVENT
END:VCALENDAR
