BEGIN:VCALENDAR
VERSION:2.0
PRODID:-//SportPlan//Event Calendar//EN
CALSCALE:GREGORIAN
BEGIN:VEVENT
UID:44f021cf-3c0c-4c5d-90b7-87e9babe3394@sportplan.local
DTSTAMP:20260420T211230Z
DTSTART;VALUE=DATE:20260913
DTEND;VALUE=DATE:20260914
SUMMARY:AJ Bell Great North Run
DESCRIPTION:discovered via web_fetch on official event site for UK/IE priority coverage
LOCATION:Newcastle upon Tyne to South Shields\, United Kingdom
URL:https://sportplan.vercel.app/it/events/aj-bell-great-north-run-2026-09-13
END:VEVENT
END:VCALENDAR
