BEGIN:VCALENDAR
VERSION:2.0
PRODID:-//SportPlan//Event Calendar//EN
CALSCALE:GREGORIAN
BEGIN:VEVENT
UID:bfa003f0-f677-454c-abeb-2912ae8f1589@sportplan.local
DTSTAMP:20260420T224457Z
DTSTART;VALUE=DATE:20260515
DTEND;VALUE=DATE:20260516
SUMMARY:AirAsia HYROX Incheon 2026
DESCRIPTION:AirAsia HYROX Incheon 2026 is an official mass-participation HYROX fitness race in Incheon\, South Korea. The official event page provides the venue\, date\, and standard athlete registration flexibility information\, supporting it as an open-entry HYROX race for regular participants.
LOCATION:Songdo Convensia
URL:https://sportplan.vercel.app/it/events/airasia-hyrox-incheon-2026-2026-05-15
END:VEVENT
END:VCALENDAR
