BEGIN:VCALENDAR
VERSION:2.0
PRODID:-//SportPlan//Event Calendar//EN
CALSCALE:GREGORIAN
BEGIN:VEVENT
UID:ae9ce856-d671-485f-b16c-a18acb67d29a@sportplan.local
DTSTAMP:20260420T195516Z
DTSTART;VALUE=DATE:20261129
DTEND;VALUE=DATE:20261130
SUMMARY:African Bank Soweto Marathon
DESCRIPTION:Direct official event page\; 'The People's Race'\; annual marathon through Soweto's iconic landmarks (Vilakazi Street\, Hector Pieterson Memorial\, etc.)\; previous edition Nov 2025 — 2026 TBC
LOCATION:Johannesburg Expo Centre NASREC\, Soweto\, Gauteng\, South Africa
URL:https://sportplan.vercel.app/it/events/african-bank-soweto-marathon-2026-11-29
END:VEVENT
END:VCALENDAR
