BEGIN:VCALENDAR
VERSION:2.0
PRODID:-//SportPlan//Event Calendar//EN
CALSCALE:GREGORIAN
BEGIN:VEVENT
UID:088aa23f-2998-40aa-94b5-5fe2d9f324d9@sportplan.local
DTSTAMP:20260420T211137Z
DTSTART;VALUE=DATE:20260704
DTEND;VALUE=DATE:20260705
SUMMARY:Achill Half Marathon
DESCRIPTION:Official Achill Half Marathon and 10K site for the annual first-Saturday-of-July running event on Achill Island\, Co. Mayo. The race starts and finishes in Keel beside the Blue Flag beach and offers scenic half-marathon and 10K routes on Ireland's Atlantic coast.
LOCATION:Achill Island\, County Mayo\, Ireland
URL:https://sportplan.vercel.app/it/events/achill-half-marathon-2026-07-04
END:VEVENT
END:VCALENDAR
