BEGIN:VCALENDAR
VERSION:2.0
PRODID:-//SportPlan//Event Calendar//EN
CALSCALE:GREGORIAN
BEGIN:VEVENT
UID:4e044a3e-13d9-45f2-ac1f-bf9c3b8345d8@sportplan.local
DTSTAMP:20260420T202008Z
DTSTART;VALUE=DATE:20261101
DTEND;VALUE=DATE:20261102
SUMMARY:Acantilados del Norte Skyrace By Dynafit
DESCRIPTION:Acantilados del Norte Skyrace By Dynafit se celebrará el 2026-11-01 en Santo Domingo de Garafía\, Santa Cruz de Tenerife\, Canarias. El recorrido cubre aproximadamente 29 km\, ofreciendo una cita atractiva tanto para participantes que buscan un nuevo reto como para quienes quieren disfrutar del ambiente del evento. Ideal para sumar una nueva experiencia al calendario y disfrutar de una jornada activa en un entorno especial.
LOCATION:Santo Domingo de Garafía\, Santa Cruz de Tenerife\, Canarias
URL:https://sportplan.vercel.app/it/events/acantilados-del-norte-skyrace-by-dynafit-santo-domingo-de-garafia-2026-11-01-29k
END:VEVENT
END:VCALENDAR
