BEGIN:VCALENDAR
VERSION:2.0
PRODID:-//SportPlan//Event Calendar//EN
CALSCALE:GREGORIAN
BEGIN:VEVENT
UID:3187e6e4-9c83-4b7b-a34d-4b9223fd0e3a@sportplan.local
DTSTAMP:20260420T194914Z
DTSTART;VALUE=DATE:20260926
DTEND;VALUE=DATE:20260927
SUMMARY:About the Race – Ultra Paine®
DESCRIPTION:Ultra trail running race around Torres del Paine National Park\, Patagonia\, Chile: 50K - 35K - 21K - 14K - 5K\n.
LOCATION:Torres del Paine\, Patagonia\, Chile
URL:https://sportplan.vercel.app/it/events/about-the-race-ultra-paine-2026-09-26
END:VEVENT
END:VCALENDAR
