BEGIN:VCALENDAR
VERSION:2.0
PRODID:-//SportPlan//Event Calendar//EN
CALSCALE:GREGORIAN
BEGIN:VEVENT
UID:28a6bf7a-f552-4159-8783-e7201c5051e2@sportplan.local
DTSTAMP:20260420T211355Z
DTSTART;VALUE=DATE:20260620
DTEND;VALUE=DATE:20260621
SUMMARY:Aarhus City Half Marathon 2026
DESCRIPTION:Aarhus City Half Marathon 2026 finder sted den 20 juni 2026 i Aarhus\, Central Jutland. Det er en god mulighed for at opleve stemningen og dele dagen med andre deltagere og tilskuere. Den oplyste distance er 21.1 km\, hvilket giver en tydelig ramme for forberedelsen.
LOCATION:Aarhus\, Central Jutland
URL:https://sportplan.vercel.app/it/events/aarhus-city-half-marathon-2026-aarhus-2026-06-20
END:VEVENT
END:VCALENDAR
