BEGIN:VCALENDAR
VERSION:2.0
PRODID:-//SportPlan//Event Calendar//EN
CALSCALE:GREGORIAN
BEGIN:VEVENT
UID:a4f061f4-5c7a-4f3c-8205-fc61e56fee1b@sportplan.local
DTSTAMP:20260420T211340Z
DTSTART;VALUE=DATE:20260829
DTEND;VALUE=DATE:20260830
SUMMARY:Aarhus Bay Triathlon 4-16-4 2026
DESCRIPTION:Aarhus Bay Triathlon 4-16-4 2026 is an official amateur triathlon in Aarhus\, Denmark on 29 August 2026. Triatlon Danmark lists the event in its 2026 federation calendar\, and the official race site describes a beginner-friendly 400 m swim\, 16 km bike\, and 4 km run format at Tangkrogen with fully supported racing for newcomers and experienced athletes alike.
LOCATION:Tangkrogen\, Aarhus
URL:https://sportplan.vercel.app/it/events/aarhus-bay-triathlon-4-16-4-2026-08-29
END:VEVENT
END:VCALENDAR
