BEGIN:VCALENDAR
VERSION:2.0
PRODID:-//SportPlan//Event Calendar//EN
CALSCALE:GREGORIAN
BEGIN:VEVENT
UID:b809bc04-7244-498e-859a-fbb8b15d44cc@sportplan.local
DTSTAMP:20260420T194510Z
DTSTART;VALUE=DATE:20260418
DTEND;VALUE=DATE:20260419
SUMMARY:65. Jüriööjooks
DESCRIPTION:65. Jüriööjooks is an official amateur night relay orienteering event in Palivere\, Estonia on 18 April 2026. The official Estonian Orienteering Federation event page lists the 2026 date and venue\, and the official Harju OK organizer page describes the public relay formats\, including the five-member main relay and a shorter three-leg mini-Jüriöö option.
LOCATION:Palivere Turismi- ja Tervisespordikeskus\, Palivere\, Estonia
URL:https://sportplan.vercel.app/it/events/65-jurioojooks-2026-04-18
END:VEVENT
END:VCALENDAR
