BEGIN:VCALENDAR
VERSION:2.0
PRODID:-//SportPlan//Event Calendar//EN
CALSCALE:GREGORIAN
BEGIN:VEVENT
UID:906c8522-ff5a-4442-bca7-63e890e2b046@sportplan.local
DTSTAMP:20260420T165215Z
DTSTART;VALUE=DATE:20260421
DTEND;VALUE=DATE:20260422
SUMMARY:6 Heures et 3 Heures de Dury
DESCRIPTION:6 Heures et 3 Heures de Dury a lieu à Dury le 21 avril 2026. C’est un rendez-vous parfait pour profiter d’une belle journée de course\, avec une belle ambiance de course et un parcours adapté à différents profils de coureurs. Que vous visiez la performance ou une expérience plus conviviale\, l’événement promet une ambiance motivante du début à la fin.
LOCATION:Dury
URL:https://sportplan.vercel.app/it/events/6-heures-et-3-heures-de-dury-dury-2026-04-21
END:VEVENT
END:VCALENDAR
