BEGIN:VCALENDAR
VERSION:2.0
PRODID:-//SportPlan//Event Calendar//EN
CALSCALE:GREGORIAN
BEGIN:VEVENT
UID:bba1d1bd-300f-41c8-ab36-7cd8847a00d4@sportplan.local
DTSTAMP:20260420T235734Z
DTSTART;VALUE=DATE:20260607
DTEND;VALUE=DATE:20260608
SUMMARY:5150 Warsaw
DESCRIPTION:5150 Warsaw is an official amateur short-course triathlon in Warsaw\, Poland on 7 June 2026. The official IRONMAN event page describes a 1.5 km swim in Lake Zegrzyński\, a flat 40 km bike ride past iconic landmarks\, and a 10 km run through Warsaw's historic city center\, presenting the race as a public-entry 5150 triathlon weekend.
LOCATION:Warsaw
URL:https://sportplan.vercel.app/it/events/5150-warsaw-2026-06-07
END:VEVENT
END:VCALENDAR
