BEGIN:VCALENDAR
VERSION:2.0
PRODID:-//SportPlan//Event Calendar//EN
CALSCALE:GREGORIAN
BEGIN:VEVENT
UID:8f02f230-72b6-4314-b349-e4810e074753@sportplan.local
DTSTAMP:20260420T165213Z
DTSTART;VALUE=DATE:20260111
DTEND;VALUE=DATE:20260112
SUMMARY:5150 Chennai
DESCRIPTION:5150 Chennai is an official amateur short-course triathlon listed on the official IRONMAN race page for 11 January 2026 in Chennai\, India. The official page provides event-specific registration\, course\, schedule\, and athlete information and includes a mapped race location on the Chennai coast.
LOCATION:Chennai
URL:https://sportplan.vercel.app/it/events/5150-chennai-2026-01-11
END:VEVENT
END:VCALENDAR
