BEGIN:VCALENDAR
VERSION:2.0
PRODID:-//SportPlan//Event Calendar//EN
CALSCALE:GREGORIAN
BEGIN:VEVENT
UID:85b6108a-3b22-4c7e-939b-cdeb54cbf112@sportplan.local
DTSTAMP:20260420T223648Z
DTSTART;VALUE=DATE:20260920
DTEND;VALUE=DATE:20260921
SUMMARY:5150 Cervia
DESCRIPTION:5150 Cervia is an official short-course triathlon on Italy's Romagna coast. The canonical IRONMAN event page shows the 2026 race on 20 September 2026 in Cervia\, with a 1.5 km ocean swim\, 40 km flat bike course\, and 10 km flat run for amateur participation.
LOCATION:Cervia\, Italy
URL:https://sportplan.vercel.app/it/events/5150-cervia-2026-09-20
END:VEVENT
END:VCALENDAR
