BEGIN:VCALENDAR
VERSION:2.0
PRODID:-//SportPlan//Event Calendar//EN
CALSCALE:GREGORIAN
BEGIN:VEVENT
UID:569babcc-681f-4300-9a6f-4f416237de4c@sportplan.local
DTSTAMP:20260420T165216Z
DTSTART;VALUE=DATE:20260421
DTEND;VALUE=DATE:20260422
SUMMARY:3. Tallinna Teisipäevak
DESCRIPTION:3. Tallinna Teisipäevak is an amateur orienteering event in the Estonian Orienteering Federation calendar\, scheduled for 21 April 2026 at Männiku linnak in Tallinn. The official federation detail page describes fast runnable forest terrain at the Defence Forces training area\, with both foot-orienteering and mountain-bike orienteering maps and route options ranging from 0.3 km up to 21 km.
LOCATION:Männiku linnak\, Tallinn\, Estonia
URL:https://sportplan.vercel.app/it/events/3-tallinna-teisipaevak-2026-04-21
END:VEVENT
END:VCALENDAR
