BEGIN:VCALENDAR
VERSION:2.0
PRODID:-//SportPlan//Event Calendar//EN
CALSCALE:GREGORIAN
BEGIN:VEVENT
UID:bf567b42-7b30-43fc-ba82-8f80f234434e@sportplan.local
DTSTAMP:20260420T235815Z
DTSTART;VALUE=DATE:20261011
DTEND;VALUE=DATE:20261012
SUMMARY:3 Country Marathon
DESCRIPTION:3 Country Marathon findet am 11. Oktober 2026 in Austria / Germany / Switzerland statt. Die Veranstaltung ist ideal für alle\, die ein gut organisiertes Sportevent und eine motivierende Atmosphäre suchen. Perfekt\, um Bestzeiten anzugreifen\, eine neue Herausforderung anzunehmen oder die besondere Eventstimmung zu genießen.
LOCATION:Austria / Germany / Switzerland
URL:https://sportplan.vercel.app/it/events/3-country-marathon-2026-10-11
END:VEVENT
END:VCALENDAR
