BEGIN:VCALENDAR
VERSION:2.0
PRODID:-//SportPlan//Event Calendar//EN
CALSCALE:GREGORIAN
BEGIN:VEVENT
UID:112c31fc-9c2f-4d03-9f2d-3f7dbd967d39@sportplan.local
DTSTAMP:20260420T194842Z
DTSTART;VALUE=DATE:20260517
DTEND;VALUE=DATE:20260518
SUMMARY:15K GIS 2026 — PACERS
DESCRIPTION:15K GIS 2026 — PACERS se celebrará el 17 mayo 2026 en Saltillo\, reuniendo a corredores en un entorno ideal para disfrutar de la jornada. El recorrido y el ambiente la convierten en una cita atractiva para quienes buscan un reto deportivo bien organizado.
LOCATION:Saltillo
URL:https://sportplan.vercel.app/it/events/15k-gis-2026-pacers-saltillo-2026-05-17
END:VEVENT
END:VCALENDAR
