BEGIN:VCALENDAR
VERSION:2.0
PRODID:-//SportPlan//Event Calendar//EN
CALSCALE:GREGORIAN
BEGIN:VEVENT
UID:8b58eb20-4a50-4b91-bc98-df7fd4d1ef31@sportplan.local
DTSTAMP:20260420T194910Z
DTSTART;VALUE=DATE:20260517
DTEND;VALUE=DATE:20260518
SUMMARY:15 Km de Woluwé-St-Lambert
DESCRIPTION:15 Km de Woluwé-St-Lambert aura lieu le 17 mai 2026 à Machelen\, dans un cadre parfait pour profiter de l'événement et de l'ambiance de course. Le tracé et l'atmosphère en font un rendez-vous séduisant pour les coureurs en quête d'un nouveau défi.
LOCATION:Machelen
URL:https://sportplan.vercel.app/it/events/15-km-de-woluwe-st-lambert-machelen-2026-05-17
END:VEVENT
END:VCALENDAR
