BEGIN:VCALENDAR
VERSION:2.0
PRODID:-//SportPlan//Event Calendar//EN
CALSCALE:GREGORIAN
BEGIN:VEVENT
UID:bc5dd2f4-2218-445f-8aaf-a1c2b0373146@sportplan.local
DTSTAMP:20260420T181637Z
DTSTART;VALUE=DATE:20260425
DTEND;VALUE=DATE:20260426
SUMMARY:11. Beogradski Duatlon 2026
DESCRIPTION:11. Beogradski Duatlon 2026 is an official amateur duathlon event in Belgrade\, Serbia on 25 April 2026. The official Serbian Triathlon Federation event page embeds the official race bulletin and public registration link\, while the official bulletin confirms Ada Ciganlija as venue\, open sprint and youth race formats\, age-group and recreational categories\, and entry-fee details for regular participants.
LOCATION:Ada Ciganlija\, Beograd
URL:https://sportplan.vercel.app/it/events/11-beogradski-duatlon-beograd-2026-04-25
END:VEVENT
END:VCALENDAR
