BEGIN:VCALENDAR
VERSION:2.0
PRODID:-//SportPlan//Event Calendar//EN
CALSCALE:GREGORIAN
BEGIN:VEVENT
UID:d6eca253-7b4b-49de-9dc1-eb0406a99abe@sportplan.local
DTSTAMP:20260420T201150Z
DTSTART;VALUE=DATE:20260510
DTEND;VALUE=DATE:20260511
SUMMARY:101 Kilómetros en 24 Horas de la Legión - Marcha Individual
DESCRIPTION:101 Kilómetros en 24 Horas de la Legión - Marcha Individual se celebra en Ronda\, Málaga\, Andalucía el 10 de mayo de 2026\, reuniendo a corredores en un ambiente lleno de energía. Ya sea para buscar tu mejor marca o para disfrutar del recorrido de 101 km\, es una gran oportunidad para vivir la carrera en Ronda\, Málaga\, Andalucía.
LOCATION:Ronda\, Málaga\, Andalucía
URL:https://sportplan.vercel.app/it/events/101-kilometros-en-24-horas-de-la-legion-marcha-individual-ronda-2026-05-10-101k
END:VEVENT
END:VCALENDAR
