BEGIN:VCALENDAR
VERSION:2.0
PRODID:-//SportPlan//Event Calendar//EN
CALSCALE:GREGORIAN
BEGIN:VEVENT
UID:db370404-ceda-4ad1-9bf0-e4f556d86a11@sportplan.local
DTSTAMP:20260420T194758Z
DTSTART;VALUE=DATE:20260425
DTEND;VALUE=DATE:20260426
SUMMARY:10 Under the Ben
DESCRIPTION:10 Under the Ben takes place in Highland Council on April 25\, 2026. It offers a great chance to enjoy a memorable day of running\, with race-day energy and a course that can appeal to a wide range of runners. Whether the goal is a strong result or simply soaking up the event atmosphere\, runners can expect an engaging experience from start to finish.
LOCATION:Highland Council
URL:https://sportplan.vercel.app/it/events/10-under-the-ben-highland-council-2026-04-25
END:VEVENT
END:VCALENDAR
