BEGIN:VCALENDAR
VERSION:2.0
PRODID:-//SportPlan//Event Calendar//EN
CALSCALE:GREGORIAN
BEGIN:VEVENT
UID:0310cce1-011e-4a92-b20b-19ccaaffd924@sportplan.local
DTSTAMP:20260424T223335Z
DTSTART;VALUE=DATE:20260425
DTEND;VALUE=DATE:20260426
SUMMARY:XI Carrera Popular y Solidaria Trotadunas 2026 — 10 km 10K
DESCRIPTION:Official Ayuntamiento de Puerto del Rosario route-notice page for XI Carrera Popular y Solidaria Trotadunas 2026.
LOCATION:Puerto del Rosario
URL:https://sportplan.vercel.app/eu/events/xi-carrera-popular-y-solidaria-trotadunas-2026-10-km-10k-puerto-del-rosario-2026-04-25
END:VEVENT
END:VCALENDAR
