BEGIN:VCALENDAR
VERSION:2.0
PRODID:-//SportPlan//Event Calendar//EN
CALSCALE:GREGORIAN
BEGIN:VEVENT
UID:f2ea8f23-180d-40d2-bd1b-3d41ee6c8496@sportplan.local
DTSTAMP:20260425T162208Z
DTSTART;VALUE=DATE:20260321
DTEND;VALUE=DATE:20260322
SUMMARY:IX Lupiana Trail
DESCRIPTION:IX Lupiana Trail es la edición oficial 2026 de esta carrera de montaña en Lupiana\, con recorridos de trail y un cartel oficial publicado por la organización para el 21 de marzo de 2026.
LOCATION:Lupiana
URL:https://sportplan.vercel.app/eu/events/viii-lupiana-trail-lupiana-2026-03-22-300k
END:VEVENT
END:VCALENDAR
