BEGIN:VCALENDAR
VERSION:2.0
PRODID:-//SportPlan//Event Calendar//EN
CALSCALE:GREGORIAN
BEGIN:VEVENT
UID:4cd6add5-df3a-4bfc-b1b2-d7ef3c53dfdd@sportplan.local
DTSTAMP:20260425T001748Z
DTSTART;VALUE=DATE:20260618
DTEND;VALUE=DATE:20260619
SUMMARY:Vienna Summer Night Race
DESCRIPTION:Official LCC Wien event page lists the Vienna Summer Night Race for 18 June 2026 in the Wiener Prater\, with team and individual entry options and online registration open via Pentek until 15 June 2026.
LOCATION:Vienna
URL:https://sportplan.vercel.app/eu/events/vienna-summer-night-race-vienna-2026-06-18
END:VEVENT
END:VCALENDAR
