BEGIN:VCALENDAR
VERSION:2.0
PRODID:-//SportPlan//Event Calendar//EN
CALSCALE:GREGORIAN
BEGIN:VEVENT
UID:b5ce4b98-44e8-492f-aa28-124f3b91274c@sportplan.local
DTSTAMP:20260425T000855Z
DTSTART;VALUE=DATE:20260308
DTEND;VALUE=DATE:20260309
SUMMARY:Vermut Vertical
DESCRIPTION:The official La Maasaiada site presents Vermut Vertical as one of the uphill/vertical race options within the Campins trail-running weekend\, alongside other Montseny ascent formats on the same event domain.
LOCATION:Campins
URL:https://sportplan.vercel.app/eu/events/vermut-vertical-campins-2026-03-08-8k
END:VEVENT
END:VCALENDAR
