BEGIN:VCALENDAR
VERSION:2.0
PRODID:-//SportPlan//Event Calendar//EN
CALSCALE:GREGORIAN
BEGIN:VEVENT
UID:ab1ff1c0-3d98-4e89-8a93-ef015990ea8b@sportplan.local
DTSTAMP:20260425T015249Z
DTSTART;VALUE=DATE:20260711
DTEND;VALUE=DATE:20260712
SUMMARY:V Triatlo da Batalha
DESCRIPTION:Official Federação de Triatlo de Portugal event page for V Triatlo da Batalha. The federation calendar publishes the 2026-07-11 event in Batalha\, supporting conservative inclusion as an official amateur-enterable triathlon entry.
LOCATION:Batalha\, Leiria\, Portugal
URL:https://sportplan.vercel.app/eu/events/v-triatlo-da-batalha-batalha-leiria-portugal-2026-07-11
END:VEVENT
END:VCALENDAR
