BEGIN:VCALENDAR
VERSION:2.0
PRODID:-//SportPlan//Event Calendar//EN
CALSCALE:GREGORIAN
BEGIN:VEVENT
UID:36f20541-62e0-4bc2-9151-1b33ddc57a29@sportplan.local
DTSTAMP:20260424T235235Z
DTSTART;VALUE=DATE:20261114
DTEND;VALUE=DATE:20261115
SUMMARY:Ultra X Morocco
DESCRIPTION:Official Ultra X Morocco event page for the 14–15 November 2026 desert stage-race weekend in and around Ouarzazate. The organizer describes a captivating Sahara-edge route past kasbahs\, desert oases\, fortified villages\, and rocky landscapes\, with amateur-enterable 110 km two-day and 50 km single-stage race options.
LOCATION:Ouarzazate\, Morocco
URL:https://sportplan.vercel.app/eu/events/ultra-x-morocco-2026-11-14
END:VEVENT
END:VCALENDAR
