BEGIN:VCALENDAR
VERSION:2.0
PRODID:-//SportPlan//Event Calendar//EN
CALSCALE:GREGORIAN
BEGIN:VEVENT
UID:1df2f033-1c9a-47c9-818a-1f84f40125b8@sportplan.local
DTSTAMP:20260425T001542Z
DTSTART;VALUE=DATE:20260308
DTEND;VALUE=DATE:20260309
SUMMARY:Turó de l'Home
DESCRIPTION:The official La Maasaiada site presents Turó de l'Home as one of the uphill/vertical race options within the Campins trail-running weekend\, alongside other Montseny ascent formats on the same event domain.
LOCATION:Campins
URL:https://sportplan.vercel.app/eu/events/turo-de-l-home-campins-2026-03-08-32k
END:VEVENT
END:VCALENDAR
