BEGIN:VCALENDAR
VERSION:2.0
PRODID:-//SportPlan//Event Calendar//EN
CALSCALE:GREGORIAN
BEGIN:VEVENT
UID:53b476a8-ea57-4070-903c-a53f0996ede0@sportplan.local
DTSTAMP:20260425T002019Z
DTSTART;VALUE=DATE:20261031
DTEND;VALUE=DATE:20261101
SUMMARY:Trick or Treat Run 2026
DESCRIPTION:Official Thai.Run registration page for a 2026 Halloween-themed run in Chiang Mai.
LOCATION:Chiang Mai\, Chiang Mai
URL:https://sportplan.vercel.app/eu/events/trick-or-treat-run-2026-chiang-mai-2026-10-31
END:VEVENT
END:VCALENDAR
