BEGIN:VCALENDAR
VERSION:2.0
PRODID:-//SportPlan//Event Calendar//EN
CALSCALE:GREGORIAN
BEGIN:VEVENT
UID:d412866f-34f6-4578-8165-c9a17ca4b428@sportplan.local
DTSTAMP:20260425T014827Z
DTSTART;VALUE=DATE:20260829
DTEND;VALUE=DATE:20260830
SUMMARY:Triatlon Jeklenih 2026
DESCRIPTION:Official Triathlon Federation of Slovenia 2026 calendar entry for Triatlon Jeklenih\, listed in the federation multisport cup as a Slovenia-hosted amateur triathlon race in Bohinj.
LOCATION:Bohinj\, Slovenia
URL:https://sportplan.vercel.app/eu/events/triatlon-jeklenih-2026-2026-08-29
END:VEVENT
END:VCALENDAR
