BEGIN:VCALENDAR
VERSION:2.0
PRODID:-//SportPlan//Event Calendar//EN
CALSCALE:GREGORIAN
BEGIN:VEVENT
UID:5d9167ef-7027-4e30-9b04-902411216c99@sportplan.local
DTSTAMP:20260425T001330Z
DTSTART;VALUE=DATE:20260516
DTEND;VALUE=DATE:20260517
SUMMARY:Triatlo Jovem do Sabugal
DESCRIPTION:Triatlo Jovem do Sabugal is an official Federação de Triatlo de Portugal event in Sabugal\, Portugal on 16 May 2026. The official event page publishes both the regulation and course documents for the youth triathlon edition.
LOCATION:Sabugal\, Portugal
URL:https://sportplan.vercel.app/eu/events/triatlo-jovem-do-sabugal-sabugal-2026-05-16
END:VEVENT
END:VCALENDAR
