BEGIN:VCALENDAR
VERSION:2.0
PRODID:-//SportPlan//Event Calendar//EN
CALSCALE:GREGORIAN
BEGIN:VEVENT
UID:9d2e0188-0643-4268-bc91-7aea6e4cc4f0@sportplan.local
DTSTAMP:20260424T223047Z
DTSTART;VALUE=DATE:20260502
DTEND;VALUE=DATE:20260503
SUMMARY:Triathlon des Marettes - Vitrolles (13)
DESCRIPTION:Official FFTRI/T2Area fiche lists Triathlon des Marettes - Vitrolles (13) in VITROLLES on 2026-05-02 with Vitrolles (13) - S formats.
LOCATION:VITROLLES\, Provence-Alpes-Côte d'Azur
URL:https://sportplan.vercel.app/eu/events/triathlon-des-marettes-vitrolles-13-vitrolles-2026-05-02
END:VEVENT
END:VCALENDAR
