BEGIN:VCALENDAR
VERSION:2.0
PRODID:-//SportPlan//Event Calendar//EN
CALSCALE:GREGORIAN
BEGIN:VEVENT
UID:70b6fc03-f391-42b2-bd64-6250e11ecd75@sportplan.local
DTSTAMP:20260424T223221Z
DTSTART;VALUE=DATE:20260426
DTEND;VALUE=DATE:20260427
SUMMARY:Triathlon des Lumière de la Ciotat
DESCRIPTION:Official FFTRI/T2Area fiche lists Triathlon des Lumière de la Ciotat in LA CIOTAT on 2026-04-26 for amateur participants.
LOCATION:La Ciotat
URL:https://sportplan.vercel.app/eu/events/triathlon-des-lumiere-de-la-ciotat-la-ciotat-2026-04-26
END:VEVENT
END:VCALENDAR
