BEGIN:VCALENDAR
VERSION:2.0
PRODID:-//SportPlan//Event Calendar//EN
CALSCALE:GREGORIAN
BEGIN:VEVENT
UID:a75fc14d-94d2-465f-ac79-772174a18093@sportplan.local
DTSTAMP:20260424T223133Z
DTSTART;VALUE=DATE:20260425
DTEND;VALUE=DATE:20260427
SUMMARY:Triathlon de Limoges Métropole (87)
DESCRIPTION:Official FFTRI/T2Area fiche lists Triathlon de Limoges Métropole (87) in Limoges on 25-26 April 2026 with duo animation\, youth races\, and XS\, S and M formats\; swimming takes place in a pool with rolling starts.
LOCATION:Limoges\, Nouvelle-Aquitaine\, France
URL:https://sportplan.vercel.app/eu/events/triathlon-de-limoges-metropole-87-limoges-2026-04-25
END:VEVENT
END:VCALENDAR
